BEGIN:VCALENDAR
VERSION:2.0
PRODID:-//ChamberMaster//Event Calendar 2.0//EN
METHOD:PUBLISH
X-PUBLISHED-TTL:P1H
REFRESH-INTERVAL:P1H
CALSCALE:GREGORIAN
BEGIN:VTIMEZONE
TZID:America/Denver
BEGIN:DAYLIGHT
RRULE:FREQ=YEARLY;BYMONTH=3;BYDAY=2SU
DTSTART:20070101T000000
TZOFFSETFROM:-0700
TZOFFSETTO:-0600
TZNAME:Mountain Daylight Time
END:DAYLIGHT
BEGIN:STANDARD
RRULE:FREQ=YEARLY;BYMONTH=11;BYDAY=1SU
DTSTART:20070101T000000
TZOFFSETFROM:-0600
TZOFFSETTO:-0700
TZNAME:Mountain Standard Time
END:STANDARD
END:VTIMEZONE
BEGIN:VEVENT
DTSTART;TZID=America/Denver:20260416T093000
DTEND;TZID=America/Denver:20260416T140000
X-MICROSOFT-CDO-ALLDAYEVENT:FALSE
SUMMARY:Property Tour for Grantsville\, Lakepoint and Stansbury 4/16/26
DESCRIPTION:TCAR Members instructions on adding your home to the tour. (click link below)https://youtu.be/QcKWm6gqz8E\n\n Property Tour PoliciesRegistrationFrist Come\, First Serve2nd Listings requests will be honored if space is available.Property Tour can have up to 12 homes.Current MLS Listings onlyOne Home per Showing AgentShowing Agent should be opening the SupraAttendance/AffiliationTCAR Member FreeNon-TCAR Member $25No children\, spouses\, pets\, etc. allowed on tour.Honor Society Point will be issued to anyone who attends the tour and luncheon.Showing agents must attend the tour.MiscellaneousAllow time for honest feedback and respect agents time.1 ticket entry for attending tour1 ticket entry for showing a home1 ticket entry for staying the whole tourDoor Prize Drawing will occur at the end of the tour\, and you must be present to win.
X-ALT-DESC;FMTTYPE=text/html:<!DOCTYPE html><html><head><title></title></head><body aria-disabled="false"><p><span style='color: rgb(226\, 80\, 65)\; font-family: "Source Sans Pro"\, serif\; font-size: 16px\; font-style: normal\; font-variant-ligatures: normal\; font-variant-caps: normal\; font-weight: 400\; letter-spacing: normal\; orphans: 2\; text-align: start\; text-indent: 0px\; text-transform: none\; white-space: nowrap\; widows: 2\; word-spacing: 0px\; -webkit-text-stroke-width: 0px\; background-color: rgb(255\, 255\, 255)\; text-decoration-thickness: initial\; text-decoration-style: initial\; text-decoration-color: initial\; float: none\; display: inline !important\;'><u><strong fr-original-style="" style="font-weight: 700\;">TCAR Members instructions on adding your home to the tour. (click link below)</strong></u></span></p><p><span style='color: rgb(0\, 0\, 0)\; font-family: "Source Sans Pro"\, serif\; font-size: 16px\; font-style: normal\; font-variant-ligatures: normal\; font-variant-caps: normal\; font-weight: 400\; letter-spacing: normal\; orphans: 2\; text-align: start\; text-indent: 0px\; text-transform: none\; white-space: nowrap\; widows: 2\; word-spacing: 0px\; -webkit-text-stroke-width: 0px\; background-color: rgb(255\, 255\, 255)\; text-decoration-thickness: initial\; text-decoration-style: initial\; text-decoration-color: initial\; display: inline !important\; float: none\;'><a fr-original-style="" href="https://youtu.be/QcKWm6gqz8E" style="user-select: auto\; color: inherit\;">https://youtu.be/QcKWm6gqz8E</a></span></p><p><br></p><p><br></p><p><span style='color: rgb(0\, 0\, 0)\; font-family: "Source Sans Pro"\, serif\; font-size: 16px\; font-style: normal\; font-variant-ligatures: normal\; font-variant-caps: normal\; font-weight: 400\; letter-spacing: normal\; orphans: 2\; text-align: start\; text-indent: 0px\; text-transform: none\; white-space: nowrap\; widows: 2\; word-spacing: 0px\; -webkit-text-stroke-width: 0px\; background-color: rgb(255\, 255\, 255)\; text-decoration-thickness: initial\; text-decoration-style: initial\; text-decoration-color: initial\; display: inline !important\; float: none\;'>&nbsp\;Property Tour Policies</span></p><ul fr-original-style="" style="list-style-position: inside\;"><li><table border="1" cellpadding="0" cellspacing="0" fr-original-style="border-collapse:collapse\;border:none\;mso-border-alt:solid windowtext .5pt\;  mso-yfti-tbllook:1184\;mso-padding-alt:0in 5.4pt 0in 5.4pt\;" style="border-collapse: collapse\; border: none\; empty-cells: show\; max-width: 100%\;"><tbody><tr fr-original-style="mso-yfti-irow:0\;mso-yfti-firstrow:yes\;mso-yfti-lastrow:yes\;" style="user-select: none\;"><td fr-original-style="width:155.8pt\;border:solid windowtext 1.0pt\;   mso-border-alt:solid windowtext .5pt\;padding:0in 5.4pt 0in 5.4pt\;" style="width: 155.8pt\; border: 1pt solid windowtext\; padding: 0in 5.4pt\; min-width: 5px\; user-select: text\;" valign="top" width="208"><p align="center" style="margin-bottom:0in\;text-align:center\;   line-height:normal\;"><strong fr-original-style="" style="font-weight: 700\;">Registration</strong></p><ul fr-original-style="" style="list-style-position: inside\;"><li>Frist Come\, First Serve</li><li>2<sup>nd</sup> Listings requests will be honored if space is available.</li><li>Property Tour can have up to 12 homes.</li><li>Current MLS Listings only</li><li>One Home per Showing Agent</li><li>Showing Agent should be opening the Supra</li></ul></td><td fr-original-style="width:155.85pt\;border:solid windowtext 1.0pt\;   border-left:none\;mso-border-left-alt:solid windowtext .5pt\;mso-border-alt:   solid windowtext .5pt\;padding:0in 5.4pt 0in 5.4pt\;" style="width: 155.85pt\; border-top: 1pt solid windowtext\; border-right: 1pt solid windowtext\; border-bottom: 1pt solid windowtext\; border-image: initial\; border-left: none\; padding: 0in 5.4pt\; min-width: 5px\; user-select: text\;" valign="top" width="208"><p align="center" style="margin-bottom:0in\;text-align:center\;   line-height:normal\;"><strong fr-original-style="" style="font-weight: 700\;">Attendance/Affiliation</strong></p><ul fr-original-style="" style="list-style-position: inside\;"><li>TCAR Member Free</li><li>Non-TCAR Member $25</li><li>No children\, spouses\, pets\, etc. allowed on tour.</li><li>Honor Society Point will be issued to anyone who attends the tour and luncheon.</li><li>Showing agents must attend the tour.</li></ul></td><td fr-original-style="width:155.85pt\;border:solid windowtext 1.0pt\;   border-left:none\;mso-border-left-alt:solid windowtext .5pt\;mso-border-alt:   solid windowtext .5pt\;padding:0in 5.4pt 0in 5.4pt\;" style="width: 155.85pt\; border-top: 1pt solid windowtext\; border-right: 1pt solid windowtext\; border-bottom: 1pt solid windowtext\; border-image: initial\; border-left: none\; padding: 0in 5.4pt\; min-width: 5px\; user-select: text\;" valign="top" width="208"><p align="center" style="margin-bottom:0in\;text-align:center\;   line-height:normal\;"><strong fr-original-style="" style="font-weight: 700\;">Miscellaneous</strong></p><ul fr-original-style="" style="list-style-position: inside\;"><li>Allow time for honest feedback and respect agents time.</li><li>1 ticket entry for attending tour</li><li>1 ticket entry for showing a home</li><li>1 ticket entry for staying the whole tour</li><li>Door Prize Drawing will occur at the end of the tour\, and you must be present to win.</li></ul></td></tr></tbody></table></li></ul></body></html>
LOCATION:
UID:e.2398.1426930
SEQUENCE:3
DTSTAMP:20260419T180432Z
URL:https://members.tooelehomes.org/events/Details/property-tour-for-grantsville-lakepoint-and-stansbury-4-16-26-1687609?sourceTypeId=Hub
END:VEVENT
END:VCALENDAR
